BEGIN:VCALENDAR
VERSION:2.0
PRODID:-//MLP//ical//EN
TIMEZONE-ID:Europe/Berlin
X-WR-TIMEZONE:Europe/Berlin
BEGIN:VEVENT
UID:5e5n@events.mlp.de
SEQUENCE:0
DTSTAMP:20260421T084503Z
DTSTART:20301231T230000Z
DTEND:20301231T230100Z
SUMMARY:Anmeldung für kostenfreies 60-minütiges Einzelcoaching
LOCATION:\n    HT Stuttgart 01\,\n\n    Jahnstraße 6\,\n\n    70597 Stuttg
 art\n    
DESCRIPTION:Zur An-/Abmeldung und weiteren Informationen:\nevents.mlp.de/e
 vents/4tgmdwn07/anmeldung-fuer-kostenfreies-60-minuetiges-einzelcoaching
END:VEVENT
END:VCALENDAR